BEGIN:VCALENDAR
VERSION:2.0
PRODID:-//ChamberMaster//Event Calendar 2.0//EN
METHOD:PUBLISH
X-PUBLISHED-TTL:P3D
REFRESH-INTERVAL:P3D
CALSCALE:GREGORIAN
BEGIN:VEVENT
DTSTART:20200116T220000Z
DTEND:20200120T220000Z
X-MICROSOFT-CDO-ALLDAYEVENT:FALSE
SUMMARY:2020 Chamber Annual Dinner
DESCRIPTION:You do not want to miss the 2020 Chamber Annual Dinner!  This year's event is full of new and exciting updates.  The annual awards and business meeting will showcase the best of the best from 2019 and what's to come in 2020.  Come network and share in the celebration.  This is THE EVENT OF THE YEAR!  Kick off 2020 with us!\n\nA shout out to our sponsors of the upcoming 20/20 Chamber Annual Dinner on January 16th\, 2020 at the Oakwood Resort! We are so thankful for these businesses supporting the Syracuse-Wawasee Chamber in this way!\n\nDinner Sponsor: Miller's Merry Manor\n\nEntertainment Sponsor: Bowen Center\n\nAward Sponsors:\n\nTeam Tuttle Mortgage\, LLC\, The Papers\, Inc.\, Crossroads Bank\, POLYWOOD\, Key Bank\, Pro Wake Watersports\, Bass Audiology\, and Lakeland Animal Clinic\n\nTable Sponsors:\n\nMiller's Merry Manor\, Bowen Center\, Burnworth Zollars Auto Group\, Main Channel Marina\, NIPSCO\, KCH/MedStat\, Mutual Bank\, Lake City Bank\, Picket Fences Hair Salon\, Oakwood Resort\, RE/MAX Partners\, Goshen Home Medical\, The Paper's\, Inc.\, Interra Credit Union\, and Crossroads Bank\n\nWe are looking forward to an amazing evening because of you!
X-ALT-DESC;FMTTYPE=text/html:You do not want to miss the 2020 Chamber Annual Dinner!&nbsp\; This year&#39\;s event is full of new and exciting updates.&nbsp\; The annual awards and business meeting will showcase the best of the best from 2019 and what&#39\;s to come in 2020.&nbsp\; Come network and share in the celebration.&nbsp\; This is THE EVENT OF THE YEAR!&nbsp\; Kick off 2020 with us!<br />\n<span style="color: rgb(28\, 30\, 33)\; font-family: Helvetica\, Arial\, sans-serif\; font-size: 14px\; background-color: rgb(255\, 255\, 255)\;">A shout out to our sponsors of the upcoming 20/20 Chamber Annual Dinner on January 16th\, 2020 at the Oakwood Resort! We are so thankful for these businesses supporting the Syracuse-Wawasee Chamber in this way!</span><br style="color: rgb(28\, 30\, 33)\; font-family: Helvetica\, Arial\, sans-serif\; font-size: 14px\; background-color: rgb(255\, 255\, 255)\;" />\n<span style="color: rgb(28\, 30\, 33)\; font-family: Helvetica\, Arial\, sans-serif\; font-size: 14px\; background-color: rgb(255\, 255\, 255)\;">Dinner Sponsor: Miller&#39\;s Merry Manor</span><br style="color: rgb(28\, 30\, 33)\; font-family: Helvetica\, Arial\, sans-serif\; font-size: 14px\; background-color: rgb(255\, 255\, 255)\;" />\n<span style="color: rgb(28\, 30\, 33)\; font-family: Helvetica\, Arial\, sans-serif\; font-size: 14px\; background-color: rgb(255\, 255\, 255)\;">Entertainment Sponsor: Bowen Center</span><br style="color: rgb(28\, 30\, 33)\; font-family: Helvetica\, Arial\, sans-serif\; font-size: 14px\; background-color: rgb(255\, 255\, 255)\;" />\n<span style="color: rgb(28\, 30\, 33)\; font-family: Helvetica\, Arial\, sans-serif\; font-size: 14px\; background-color: rgb(255\, 255\, 255)\;">Award Sponsors:</span><br style="color: rgb(28\, 30\, 33)\; font-family: Helvetica\, Arial\, sans-serif\; font-size: 14px\; background-color: rgb(255\, 255\, 255)\;" />\n<span style="color: rgb(28\, 30\, 33)\; font-family: Helvetica\, Arial\, sans-serif\; font-size: 14px\; background-color: rgb(255\, 255\, 255)\;">Team Tuttle Mortgage\, LLC\, The Papers\, Inc.\, Crossroads Bank\, POLYWOOD\, Key Bank\, Pro Wake Watersports\, Bass Audiology\, and Lakeland Animal Clinic</span><br />\n<span class="text_exposed_show" style="display: inline\; font-family: Helvetica\, Arial\, sans-serif\; color: rgb(28\, 30\, 33)\; font-size: 14px\; background-color: rgb(255\, 255\, 255)\;">Table Sponsors:<br />\nMiller&#39\;s Merry Manor\, Bowen Center\, Burnworth Zollars Auto Group\, Main Channel Marina\, NIPSCO\, KCH/MedStat\, Mutual Bank\, Lake City Bank\, Picket Fences Hair Salon\, Oakwood Resort\, RE/MAX Partners\, Goshen Home Medical\, The Paper&#39\;s\, Inc.\, Interra Credit Union\, and Crossroads Bank<br />\nWe are looking forward to an amazing evening because of you!</span>
LOCATION:The event will take place at the Event Center at the beautiful Oakwood Resort at 702 E. Lake View Rd.\, Syracuse\, IN 46567
UID:e.3573.1
SEQUENCE:3
DTSTAMP:20260422T091240Z
URL:https://members.swchamber.com/events/details/2020-chamber-annual-dinner-1
END:VEVENT

END:VCALENDAR
