BEGIN:VCALENDAR
VERSION:2.0
PRODID:-//ChamberMaster//Event Calendar 2.0//EN
METHOD:PUBLISH
X-PUBLISHED-TTL:P3D
REFRESH-INTERVAL:P3D
CALSCALE:GREGORIAN
BEGIN:VEVENT
DTSTART;VALUE=DATE:20200924
DTEND;VALUE=DATE:20200925
TRANSP:TRANSPARENT
X-MICROSOFT-CDO-ALLDAYEVENT:TRUE
SUMMARY:2020 Chamber Golf Tournament
DESCRIPTION:Please join us for the 2020 Chamber Golf Tournament at South Shore Golf Course\, September 24th\, 2020.  Registration begins at 11 am\, lunch at 11:30 am\, shot gun start at 1 pm.
X-ALT-DESC;FMTTYPE=text/html:Please join us for the 2020 Chamber Golf Tournament at South Shore Golf Course\, September 24th\, 2020.&nbsp\; Registration begins at 11 am\, lunch at 11:30 am\, shot gun start at 1 pm.
LOCATION:South Shore Golf Club 10601 N. SR 13 Syracuse\, IN 46567
UID:e.3573.53
SEQUENCE:3
DTSTAMP:20260422T224147Z
URL:https://members.swchamber.com/events/details/2020-chamber-golf-tournament-53
END:VEVENT

END:VCALENDAR
