BEGIN:VCALENDAR
VERSION:2.0
PRODID:-//ChamberMaster//Event Calendar 2.0//EN
METHOD:PUBLISH
X-PUBLISHED-TTL:P3D
REFRESH-INTERVAL:P3D
CALSCALE:GREGORIAN
BEGIN:VEVENT
DTSTART:20240321T210000Z
DTEND:20240322T000000Z
X-MICROSOFT-CDO-ALLDAYEVENT:FALSE
SUMMARY:2024 Syracuse-Wawasee Chamber Annual Dinner
DESCRIPTION:Our Annual Awards Dinner is our yearly chance to celebrate our community share updates and connect with you. Business awards and special presentations will be given.
X-ALT-DESC;FMTTYPE=text/html:Our Annual Awards Dinner is our yearly chance to celebrate our community share updates and connect with you.&nbsp\;Business awards and special presentations will be given.&nbsp\;&nbsp\;
LOCATION:The Oakwood Resort 702 E. Lake View Rd. Syracuse\, IN 46567
UID:e.3573.143
SEQUENCE:3
DTSTAMP:20260420T193137Z
URL:https://members.swchamber.com/events/details/2024-syracuse-wawasee-chamber-annual-dinner-143
END:VEVENT

END:VCALENDAR
