BEGIN:VCALENDAR
VERSION:2.0
PRODID:-//ChamberMaster//Event Calendar 2.0//EN
METHOD:PUBLISH
X-PUBLISHED-TTL:P3D
REFRESH-INTERVAL:P3D
CALSCALE:GREGORIAN
BEGIN:VEVENT
DTSTART:20211127T130000Z
DTEND:20211127T150000Z
X-MICROSOFT-CDO-ALLDAYEVENT:FALSE
SUMMARY:5K Run/Walk for Small Business
DESCRIPTION:https://chambermaster.blob.core.windows.net/userfiles/UserFiles/chambers/3573/File/5Kregistrationwaiverform.pdf\n\nCome out and walk or run for Small Business Saturday!\n\nRun or walk off your Thanksgiving Feast!\n\nThe first participants to sign up before October 31st will receive a t-shirt. \n\nRegistration is $25.00 before October 31st and $35.00 after. Each registrant will receive a $10 Local Bucks gift certificate to spend at a local participating business. Shop local after you run for Small Business Saturday!
X-ALT-DESC;FMTTYPE=text/html:<a href="https://chambermaster.blob.core.windows.net/userfiles/UserFiles/chambers/3573/File/5Kregistrationwaiverform.pdf">https://chambermaster.blob.core.windows.net/userfiles/UserFiles/chambers/3573/File/5Kregistrationwaiverform.pdf</a><br />\nCome out and walk or run for Small Business Saturday!<br />\nRun or walk off your Thanksgiving Feast!<br />\nThe first participants to sign up before October 31st will receive a t-shirt.&nbsp\;<br />\nRegistration is $25.00 before October 31st and $35.00 after. Each registrant will receive a $10 Local Bucks gift certificate to spend at a local participating business. Shop local after you run for Small Business Saturday!
LOCATION:The event will begin at the Sawyer's Country Edge\, 1205 N. Long Dr.\, Syracuse
UID:e.3573.78
SEQUENCE:3
DTSTAMP:20260422T112828Z
URL:https://members.swchamber.com/events/details/5k-run-walk-for-small-business-78
END:VEVENT

END:VCALENDAR
