BEGIN:VCALENDAR
VERSION:2.0
PRODID:-//ChamberMaster//Event Calendar 2.0//EN
METHOD:PUBLISH
X-PUBLISHED-TTL:P3D
REFRESH-INTERVAL:P3D
CALSCALE:GREGORIAN
BEGIN:VEVENT
DTSTART:20260428T170000Z
DTEND:20260428T180000Z
X-MICROSOFT-CDO-ALLDAYEVENT:FALSE
SUMMARY:Annual Dinner Committee Meeting
DESCRIPTION:Annual Dinner Committee Meeting
X-ALT-DESC;FMTTYPE=text/html:Annual Dinner Committee Meeting&nbsp\;
LOCATION:Chamber Office
UID:e.3573.1525
SEQUENCE:3
DTSTAMP:20260422T191818Z
URL:https://members.swchamber.com/events/details/annual-dinner-committee-meeting-1525
END:VEVENT

END:VCALENDAR
