BEGIN:VCALENDAR
VERSION:2.0
PRODID:-//ChamberMaster//Event Calendar 2.0//EN
METHOD:PUBLISH
X-PUBLISHED-TTL:P3D
REFRESH-INTERVAL:P3D
CALSCALE:GREGORIAN
BEGIN:VEVENT
DTSTART:20200227T170000Z
DTEND:20200227T180000Z
X-MICROSOFT-CDO-ALLDAYEVENT:FALSE
SUMMARY:February Chamber Monthly Meeting
DESCRIPTION:Join us each month for Chamber updates and member news.  The first meeting in 2020 is February 27th at the Chamber office - 801 N. Huntington St.\, Ste. 4\, Syracuse.
X-ALT-DESC;FMTTYPE=text/html:Join us each month for Chamber updates and member news.&nbsp\; The first meeting in 2020 is February 27th at the Chamber office - 801 N. Huntington St.\, Ste. 4\, Syracuse.
LOCATION:Syracuse-Wawasee Chamber of Commerce
UID:e.3573.15
SEQUENCE:3
DTSTAMP:20260422T103711Z
URL:https://members.swchamber.com/events/details/february-chamber-monthly-meeting-15
END:VEVENT

END:VCALENDAR
