BEGIN:VCALENDAR
VERSION:2.0
PRODID:-//ChamberMaster//Event Calendar 2.0//EN
METHOD:PUBLISH
X-PUBLISHED-TTL:P3D
REFRESH-INTERVAL:P3D
CALSCALE:GREGORIAN
BEGIN:VEVENT
DTSTART:20200529T210000Z
DTEND:20200530T000000Z
X-MICROSOFT-CDO-ALLDAYEVENT:FALSE
SUMMARY:Garden & Arts Fair (Last Friday's)
DESCRIPTION:
X-ALT-DESC;FMTTYPE=text/html:
LOCATION:Syracuse
UID:e.3573.35
SEQUENCE:3
DTSTAMP:20260422T162203Z
URL:https://members.swchamber.com/events/details/garden-arts-fair-last-friday-s-35
END:VEVENT

END:VCALENDAR
