BEGIN:VCALENDAR
VERSION:2.0
PRODID:-//ChamberMaster//Event Calendar 2.0//EN
METHOD:PUBLISH
X-PUBLISHED-TTL:P3D
REFRESH-INTERVAL:P3D
CALSCALE:GREGORIAN
BEGIN:VEVENT
DTSTART:20250603T140000Z
DTEND:20250603T190000Z
X-MICROSOFT-CDO-ALLDAYEVENT:FALSE
SUMMARY:Kosciusko County Senior Expo & Outreach
DESCRIPTION:Join us for the Senior Expo & Outreach\, an event designed to connect seniors with resources\, services\, and activities available to enhance your well-being. Enjoy informative workshops and a wide range of exhibitors offering products and services for senior living. It's a day of fun\, education\, and community perfect for seniors and their families! Don't miss this opportunity to discover new ways to live life to the fullest!\n\nhttps://www.facebook.com/share/1Ba63YxgR7/
X-ALT-DESC;FMTTYPE=text/html:<span style="color:rgb(0\, 0\, 0)\; font-family:inter\,-apple-system\,blinkmacsystemfont\,helvetica neue\,helvetica\,sans-serif\; font-size:20px">Join us for the Senior Expo &amp\; Outreach\, an event designed to connect seniors with resources\, services\, and activities available to enhance your well-being. Enjoy informative workshops and a wide range of exhibitors offering products and services for senior living. It&#39\;s a day of fun\, education\, and community&mdash\;perfect for seniors and their families! Don&#39\;t miss this opportunity to discover new ways to live life to the fullest!</span><br />\n<a class="x1fey0fg xmper1u x1edh9d7" dir="ltr" href="https://www.facebook.com/share/1Ba63YxgR7/">https://www.facebook.com/share/1Ba63YxgR7/</a>
LOCATION:Lakeview Middle School 848 E Smith St Warsaw\, IN 46580
UID:e.3573.378
SEQUENCE:3
DTSTAMP:20260422T014236Z
URL:https://members.swchamber.com/events/details/kosciusko-county-senior-expo-outreach-378
END:VEVENT

END:VCALENDAR
