BEGIN:VCALENDAR
VERSION:2.0
PRODID:-//ChamberMaster//Event Calendar 2.0//EN
METHOD:PUBLISH
X-PUBLISHED-TTL:P3D
REFRESH-INTERVAL:P3D
CALSCALE:GREGORIAN
BEGIN:VEVENT
DTSTART;VALUE=DATE:20211201
DTEND;VALUE=DATE:20220102
TRANSP:TRANSPARENT
X-MICROSOFT-CDO-ALLDAYEVENT:TRUE
SUMMARY:Let It Glow 2021!
DESCRIPTION:It's time for our second annual Let It Glow contest!\n\nDecorate your home with Christmas lights\, send a picture\, your name\, and address to the SWChamber at info@swchamber.com \n\nWe will post your address and photo on social media for voting and add them to a map for folks to take a tour of lights in our area.
X-ALT-DESC;FMTTYPE=text/html:It&#39\;s time for our second annual Let It Glow contest!<br />\nDecorate your home with Christmas lights\, send a picture\, your name\, and address to the SWChamber at info@swchamber.com&nbsp\;<br />\nWe will post your address and photo on social media for voting and add them to a map for folks to take a tour of lights in our area.
LOCATION:Syracuse and surrounding areas.
UID:e.3573.83
SEQUENCE:3
DTSTAMP:20260422T084420Z
URL:https://members.swchamber.com/events/details/let-it-glow-2021-83
END:VEVENT

END:VCALENDAR
