BEGIN:VCALENDAR
VERSION:2.0
PRODID:-//ChamberMaster//Event Calendar 2.0//EN
METHOD:PUBLISH
X-PUBLISHED-TTL:P3D
REFRESH-INTERVAL:P3D
CALSCALE:GREGORIAN
BEGIN:VEVENT
DTSTART:20201210T210000Z
DTEND:20201210T220000Z
X-MICROSOFT-CDO-ALLDAYEVENT:FALSE
SUMMARY:Lights\, Camera\, Appreciation!
DESCRIPTION:In appreciation of our members and the community\, we are unrolling the red carpet for you! Please join us for light refreshments\, an exclusive premiere of the Chamber video\, and other highlights from this year. This is an hour to show you our appreciation. Please register and plan to attend.  You do not want to miss what we have in store for you!
X-ALT-DESC;FMTTYPE=text/html:In appreciation of our members and the community\, we are unrolling the red carpet for you!&nbsp\;Please join us for light refreshments\, an exclusive premiere of the Chamber video\, and other highlights from this year. This is an hour to show you our appreciation. Please register and plan to attend.&nbsp\; You do not want to miss what we have in store for you!&nbsp\;&nbsp\;
LOCATION:Pickwick Theater 108 W. Main St. Syracuse\, IN 46567
UID:e.3573.57
SEQUENCE:3
DTSTAMP:20260423T033733Z
URL:https://members.swchamber.com/events/details/lights-camera-appreciation-57
END:VEVENT

END:VCALENDAR
