BEGIN:VCALENDAR
VERSION:2.0
PRODID:-//ChamberMaster//Event Calendar 2.0//EN
METHOD:PUBLISH
X-PUBLISHED-TTL:P3D
REFRESH-INTERVAL:P3D
CALSCALE:GREGORIAN
BEGIN:VEVENT
DTSTART:20200219T170000Z
DTEND:20200219T180000Z
X-MICROSOFT-CDO-ALLDAYEVENT:FALSE
SUMMARY:Lunch & Learn
DESCRIPTION:Come or send your employees to learn about the Chamber Master benefit with your membership.  This is a new program\, learn with us how to utilize it to assist your business.
X-ALT-DESC;FMTTYPE=text/html:Come or send your employees to learn about the Chamber Master benefit with your membership.&nbsp\; This is a new program\, learn with us how to utilize it to assist your business.
LOCATION:Syracuse-Wawasee Chamber of Commerce.
UID:e.3573.7
SEQUENCE:3
DTSTAMP:20260422T103359Z
URL:https://members.swchamber.com/events/details/lunch-learn-7
END:VEVENT

END:VCALENDAR
