BEGIN:VCALENDAR
VERSION:2.0
PRODID:-//ChamberMaster//Event Calendar 2.0//EN
METHOD:PUBLISH
X-PUBLISHED-TTL:P3D
REFRESH-INTERVAL:P3D
CALSCALE:GREGORIAN
BEGIN:VEVENT
DTSTART:20201022T160000Z
DTEND:20201022T173000Z
X-MICROSOFT-CDO-ALLDAYEVENT:FALSE
SUMMARY:Lunch & Learn - Conflict Resolution
DESCRIPTION:Join us for some lunch as we learn about how to effectively deal with conflict resolution.  Kelly Thompson and Tony Garza will be our presenters for the afternoon. You will learn useful skills to assist you personally and professionally.  Both Kelly and Tony have years of experience on this topic\, both bringing useful information for you to take away.
X-ALT-DESC;FMTTYPE=text/html:Join us for some lunch as we learn about how to effectively deal with conflict resolution.&nbsp\; Kelly Thompson and Tony Garza will be our presenters for the afternoon. You will learn useful skills to assist you personally and professionally.&nbsp\; Both Kelly and Tony have years of experience on this topic\, both bringing useful information for you to take away.
LOCATION:Oakwood Resort 702 E. Lake View Rd. Syracuse\, IN 46567
UID:e.3573.47
SEQUENCE:3
DTSTAMP:20260422T223936Z
URL:https://members.swchamber.com/events/details/lunch-learn-conflict-resolution-47
END:VEVENT

END:VCALENDAR
