BEGIN:VCALENDAR
VERSION:2.0
PRODID:-//ChamberMaster//Event Calendar 2.0//EN
METHOD:PUBLISH
X-PUBLISHED-TTL:P3D
REFRESH-INTERVAL:P3D
CALSCALE:GREGORIAN
BEGIN:VEVENT
DTSTART:20250612T161500Z
DTEND:20250612T170000Z
X-MICROSOFT-CDO-ALLDAYEVENT:FALSE
SUMMARY:Lunch & Learn Series
DESCRIPTION:Lunch & Learn Series\n\nFREE to members only\n\n1st in series of workshops on the new tools available to members on the chamber's website SWChamber.com
X-ALT-DESC;FMTTYPE=text/html:Lunch &amp\; Learn Series<br />\nFREE to members only<br />\n1st in series of workshops on the new tools available to members on the chamber&#39\;s website SWChamber.com&nbsp\;
LOCATION:Board Room Syracuse-Wawasee Chamber of Commerce 207 N. Huntington Street Syracuse\, IN 46567
UID:e.3573.166
SEQUENCE:3
DTSTAMP:20260422T013642Z
URL:https://members.swchamber.com/events/details/lunch-learn-series-166
END:VEVENT

END:VCALENDAR
