BEGIN:VCALENDAR
VERSION:2.0
PRODID:-//ChamberMaster//Event Calendar 2.0//EN
METHOD:PUBLISH
X-PUBLISHED-TTL:P3D
REFRESH-INTERVAL:P3D
CALSCALE:GREGORIAN
BEGIN:VEVENT
DTSTART:20210218T170000Z
DTEND:20210218T180000Z
X-MICROSOFT-CDO-ALLDAYEVENT:FALSE
SUMMARY:Lunch & ZOOM
DESCRIPTION:Join us for our first Lunch & Zoom series for 2021.  We will be looking at ways to review and strengthen your business planning this year.  Sarah Lance from the NICC (Northern Indiana Innovation Center) will be our speaker.
X-ALT-DESC;FMTTYPE=text/html:Join us for our first Lunch &amp\; Zoom series for 2021.&nbsp\; We will be looking at ways to review and strengthen your business planning this year.&nbsp\; Sarah Lance from the NICC (Northern Indiana Innovation Center) will be our speaker.
LOCATION:Zoom: Renea Salyer is inviting you to a scheduled Zoom meeting. Topic: LUNCH & ZOOM! Time: Feb 18\, 2021 12:00 PM Eastern Time (US and Canada) Join Zoom Meeting https://us02web.zoom.us/j/88332742308?pwd=UHBmQzYwcmJxY1kxQmZFL2VwVmwzQT09 Meeting ID: 883 3274 2308 Passcode: 395044 One tap mobile +13017158592\,\,88332742308#\,\,\,\,*395044# US (Washington DC) +13126266799\,\,88332742308#\,\,\,\,*395044# US (Chicago) Dial by your location +1 301 715 8592 US (Washington DC) +1 312 626 6799 US (Chicago) +1 929 205 6099 US (New York) +1 253 215 8782 US (Tacoma) +1 346 248 7799 US (Houston) +1 669 900 6833 US (San Jose) Meeting ID: 883 3274 2308 Passcode: 395044 Find your local number: https://us02web.zoom.us/u/kemcWm1B8J
UID:e.3573.58
SEQUENCE:3
DTSTAMP:20260423T013154Z
URL:https://members.swchamber.com/events/details/lunch-zoom-58
END:VEVENT

END:VCALENDAR
