BEGIN:VCALENDAR
VERSION:2.0
PRODID:-//ChamberMaster//Event Calendar 2.0//EN
METHOD:PUBLISH
X-PUBLISHED-TTL:P3D
REFRESH-INTERVAL:P3D
CALSCALE:GREGORIAN
BEGIN:VEVENT
DTSTART:20210528T210000Z
DTEND:20210528T230000Z
X-MICROSOFT-CDO-ALLDAYEVENT:FALSE
SUMMARY:May Last Friday
DESCRIPTION:Family Art Fest
X-ALT-DESC;FMTTYPE=text/html:Family Art Fest
LOCATION:Veteran's Memorial Park across from the Syracuse Town Hall on Huntington St.\, next to the Dam
UID:e.3573.65
SEQUENCE:3
DTSTAMP:20260422T203030Z
URL:https://members.swchamber.com/events/details/may-last-friday-65
END:VEVENT

END:VCALENDAR
