BEGIN:VCALENDAR
VERSION:2.0
PRODID:-//ChamberMaster//Event Calendar 2.0//EN
METHOD:PUBLISH
X-PUBLISHED-TTL:P3D
REFRESH-INTERVAL:P3D
CALSCALE:GREGORIAN
BEGIN:VEVENT
DTSTART:20250709T154500Z
DTEND:20250709T160000Z
X-MICROSOFT-CDO-ALLDAYEVENT:FALSE
SUMMARY:Member of the Month at Adventures in Health
DESCRIPTION:The Chamber will be at Adventures in Health for their July \n\nMember of the Month presentation
X-ALT-DESC;FMTTYPE=text/html:The Chamber will be at Adventures in Health for their July&nbsp\;<br />\nMember of the Month presentation
LOCATION:Adventures in Health is located at 507 N. Huntington Street in Syracuse\, IN 46567
UID:e.3573.381
SEQUENCE:3
DTSTAMP:20260422T000645Z
URL:https://members.swchamber.com/events/details/member-of-the-month-at-adventures-in-health-381
END:VEVENT

END:VCALENDAR
