BEGIN:VCALENDAR
VERSION:2.0
PRODID:-//ChamberMaster//Event Calendar 2.0//EN
METHOD:PUBLISH
X-PUBLISHED-TTL:P3D
REFRESH-INTERVAL:P3D
CALSCALE:GREGORIAN
BEGIN:VEVENT
DTSTART:20250629T233000Z
DTEND:20250630T010000Z
X-MICROSOFT-CDO-ALLDAYEVENT:FALSE
SUMMARY:Patriotic Pops Concert
DESCRIPTION:Don't miss the annual Patriotic Pops concert\, featuring the Fort Wayne Philharmonic Orchestra\, Sunday\, June 29. This incredible outdoor event for the entire family takes place on the Oakwood Resort lawn overlooking beautiful Lake Wawasee and is overflowing with the American Spirit! Stop by the Chautauqua tent for some free Patriotic goodies!
X-ALT-DESC;FMTTYPE=text/html:Don&rsquo\;t miss the annual Patriotic Pops concert\, featuring the Fort Wayne Philharmonic Orchestra\, Sunday\, June 29. This incredible outdoor event for the entire family takes place on the Oakwood Resort lawn overlooking beautiful Lake Wawasee and is overflowing with the American Spirit! Stop by the Chautauqua tent for some free Patriotic goodies!
LOCATION:On the lawn of Oakwood Resort\, 702 E. Lake View Rd\, Syracuse\, Indiana
UID:e.3573.176
SEQUENCE:3
DTSTAMP:20260422T013946Z
URL:https://members.swchamber.com/events/details/patriotic-pops-concert-176
END:VEVENT

END:VCALENDAR
