BEGIN:VCALENDAR
VERSION:2.0
PRODID:-//ChamberMaster//Event Calendar 2.0//EN
METHOD:PUBLISH
X-PUBLISHED-TTL:P3D
REFRESH-INTERVAL:P3D
CALSCALE:GREGORIAN
BEGIN:VEVENT
DTSTART:20250728T153000Z
DTEND:20250728T160000Z
X-MICROSOFT-CDO-ALLDAYEVENT:FALSE
SUMMARY:Ribbon Cutting at Wee Warriors in Milford
DESCRIPTION:Ribbon Cutting for the New Location of \n\nWee Warriors Daycare in Milford
X-ALT-DESC;FMTTYPE=text/html:Ribbon Cutting for the New Location of&nbsp\;<br />\nWee Warriors Daycare in Milford
LOCATION:706 W Syracuse St. Milford\, IN 46542
UID:e.3573.814
SEQUENCE:3
DTSTAMP:20260422T014240Z
URL:https://members.swchamber.com/events/details/ribbon-cutting-at-wee-warriors-in-milford-814
END:VEVENT

END:VCALENDAR
