BEGIN:VCALENDAR
VERSION:2.0
PRODID:-//ChamberMaster//Event Calendar 2.0//EN
METHOD:PUBLISH
X-PUBLISHED-TTL:P3D
REFRESH-INTERVAL:P3D
CALSCALE:GREGORIAN
BEGIN:VEVENT
DTSTART:20201128T150000Z
DTEND:20201128T180000Z
X-MICROSOFT-CDO-ALLDAYEVENT:FALSE
SUMMARY:Small Business Saturday
DESCRIPTION:Come out and shop small business Saturday in Syracuse! A prize patrol will be out and about from 11 am to 1 pm checking in to see who is shopping! You could be a winner if we catch you shopping in Syracuse!\n\nSpecial thanks to our prize sponsor Mohawk Pier & Lift!
X-ALT-DESC;FMTTYPE=text/html:<span style="color: rgb(5\, 5\, 5)\; font-family: &quot\;Segoe UI Historic&quot\;\, &quot\;Segoe UI&quot\;\, Helvetica\, Arial\, sans-serif\; font-size: 15px\;">Come out and shop small business Saturday in Syracuse! A prize patrol will be out and about from 11 am to 1 pm checking in to see who is shopping! You could be a winner if we catch you shopping in Syracuse!</span><br style="color: rgb(5\, 5\, 5)\; font-family: &quot\;Segoe UI Historic&quot\;\, &quot\;Segoe UI&quot\;\, Helvetica\, Arial\, sans-serif\; font-size: 15px\;" />\n<span style="color: rgb(5\, 5\, 5)\; font-family: &quot\;Segoe UI Historic&quot\;\, &quot\;Segoe UI&quot\;\, Helvetica\, Arial\, sans-serif\; font-size: 15px\;">Special thanks to our prize sponsor Mohawk Pier &amp\; Lift!</span>
LOCATION:Syracuse\, IN
UID:e.3573.49
SEQUENCE:3
DTSTAMP:20260423T003153Z
URL:https://members.swchamber.com/events/details/small-business-saturday-49
END:VEVENT

END:VCALENDAR
