BEGIN:VCALENDAR
VERSION:2.0
PRODID:-//ChamberMaster//Event Calendar 2.0//EN
METHOD:PUBLISH
X-PUBLISHED-TTL:P3D
REFRESH-INTERVAL:P3D
CALSCALE:GREGORIAN
BEGIN:VEVENT
DTSTART;VALUE=DATE:20220209
DTEND;VALUE=DATE:20220210
TRANSP:TRANSPARENT
X-MICROSOFT-CDO-ALLDAYEVENT:TRUE
SUMMARY:"Strike" Up Some Fun with the Chamber!
DESCRIPTION:Connect with fellow Chamber Members\, team build & escape cabin fever! Come out to enjoy "striking" up great connections in your "spare" time and have a "ball" playing 3 fun-filled games.
X-ALT-DESC;FMTTYPE=text/html:Connect with fellow Chamber Members\, team build &amp\; escape cabin fever! Come out to enjoy &quot\;striking&quot\; up great connections in your &quot\;spare&quot\; time and have a &quot\;ball&quot\; playing 3 fun-filled games.&nbsp\;
LOCATION:@ Wawasee Bowl in Syracuse 1201 S Huntington St\, Syracuse\, IN 46567
UID:e.3573.85
SEQUENCE:3
DTSTAMP:20260422T065741Z
URL:https://members.swchamber.com/events/details/strike-up-some-fun-with-the-chamber-85
END:VEVENT

END:VCALENDAR
