BEGIN:VCALENDAR
VERSION:2.0
PRODID:-//ChamberMaster//Event Calendar 2.0//EN
METHOD:PUBLISH
X-PUBLISHED-TTL:P3D
REFRESH-INTERVAL:P3D
CALSCALE:GREGORIAN
BEGIN:VEVENT
DTSTART:20210526T110000Z
DTEND:20210526T120000Z
X-MICROSOFT-CDO-ALLDAYEVENT:FALSE
SUMMARY:Syracuse Main Street Meeting
DESCRIPTION:Meeting to discuss ideas\, concerns\, and the future of Syracuse Main Street.
X-ALT-DESC;FMTTYPE=text/html:Meeting to discuss ideas\, concerns\, and the future of Syracuse Main Street.
LOCATION:Coffee Depot
UID:e.3573.63
SEQUENCE:3
DTSTAMP:20260422T202452Z
URL:https://members.swchamber.com/events/details/syracuse-main-street-meeting-63
END:VEVENT

END:VCALENDAR
