BEGIN:VCALENDAR
VERSION:2.0
PRODID:-//ChamberMaster//Event Calendar 2.0//EN
METHOD:PUBLISH
X-PUBLISHED-TTL:P3D
REFRESH-INTERVAL:P3D
CALSCALE:GREGORIAN
BEGIN:VEVENT
DTSTART:20210930T160000Z
DTEND:20210930T170000Z
X-MICROSOFT-CDO-ALLDAYEVENT:FALSE
SUMMARY:Syracuse-Wawasee Member Meeting
DESCRIPTION:On Zoom
X-ALT-DESC;FMTTYPE=text/html:On Zoom
LOCATION:
UID:e.3573.68
SEQUENCE:3
DTSTAMP:20260422T144218Z
URL:https://members.swchamber.com/events/details/syracuse-wawasee-member-meeting-68
END:VEVENT

END:VCALENDAR
