BEGIN:VCALENDAR
VERSION:2.0
PRODID:-//ChamberMaster//Event Calendar 2.0//EN
METHOD:PUBLISH
X-PUBLISHED-TTL:P3D
REFRESH-INTERVAL:P3D
CALSCALE:GREGORIAN
BEGIN:VEVENT
DTSTART:20210826T150000Z
DTEND:20210826T170000Z
X-MICROSOFT-CDO-ALLDAYEVENT:FALSE
SUMMARY:Welcome Reception for New Town Manager & Public Works Superintendent
DESCRIPTION:Join us in welcoming the new Town Manager\, David Wilkinson\, and new Public Works Superintendent\, Mark Aurich.  A light lunch and refreshments from area restaurants will be served. Please RSVP so we know how many people to accommodate.
X-ALT-DESC;FMTTYPE=text/html:Join us in welcoming the new Town Manager\, David Wilkinson\, and new Public Works Superintendent\, Mark Aurich.&nbsp\; A light lunch and refreshments from area restaurants will be served. Please RSVP so we know how many people to accommodate.
LOCATION:Syracuse Town Hall 310 N. Huntington St. Syracuse\, IN 46567
UID:e.3573.75
SEQUENCE:3
DTSTAMP:20260422T160341Z
URL:https://members.swchamber.com/events/details/welcome-reception-for-new-town-manager-public-works-superintendent-75
END:VEVENT

END:VCALENDAR
